BEGIN:VCALENDAR
PRODID:-//eluceo/ical//2.0/EN
VERSION:2.0
CALSCALE:GREGORIAN
BEGIN:VEVENT
UID:hey.bayern.332887.6551501
DTSTAMP:20260419T151323Z
SUMMARY:Das Kaufhausmuseum
DTSTART;TZID=Europe/Berlin:20260711T150000
DTEND;TZID=Europe/Berlin:20260711T170000
LOCATION:Marktstraße 64\, 5582 St. Michael im Lungau\, Österreich
GEO:47.098853;13.640169
X-APPLE-STRUCTURED-LOCATION;VALUE=URI;X-ADDRESS=Marktstraße 64\, 5582 St. 
 Michael im Lungau\, Österreich;X-APPLE-RADIUS=49;X-TITLE=:geo:47.098853,1
 3.640169
URL;VALUE=URI:https://hey.at/events/332887
END:VEVENT
END:VCALENDAR
