BEGIN:VCALENDAR
PRODID:-//eluceo/ical//2.0/EN
VERSION:2.0
CALSCALE:GREGORIAN
BEGIN:VEVENT
UID:hey.bayern.370143.6551156
DTSTAMP:20260419T232643Z
SUMMARY:AfterWork am Markt
DTSTART;TZID=Europe/Berlin:20260522T160000
DTEND;TZID=Europe/Berlin:20260522T224000
URL;VALUE=URI:https://hey.at/events/370143
END:VEVENT
END:VCALENDAR
