BEGIN:VCALENDAR
PRODID:-//eluceo/ical//2.0/EN
VERSION:2.0
CALSCALE:GREGORIAN
BEGIN:VEVENT
UID:hey.bayern.407133.6554610
DTSTAMP:20260422T065435Z
SUMMARY:Käsereibesichtigung
DTSTART;TZID=Europe/Berlin:20260622T100000
DTEND;TZID=Europe/Berlin:20260623T100000
LOCATION:Unterdorf 248\, 6886 Schoppernau\, Österreich
GEO:47.312390;10.016390
X-APPLE-STRUCTURED-LOCATION;VALUE=URI;X-ADDRESS=Unterdorf 248\, 6886 Schopp
 ernau\, Österreich;X-APPLE-RADIUS=49;X-TITLE=:geo:47.312390,10.016390
URL;VALUE=URI:https://hey.at/events/407133
END:VEVENT
END:VCALENDAR
