BEGIN:VCALENDAR
PRODID:-//eluceo/ical//2.0/EN
VERSION:2.0
CALSCALE:GREGORIAN
BEGIN:VEVENT
UID:hey.bayern.407135.6551819
DTSTAMP:20260422T095924Z
SUMMARY:Lamatrekking in Braz
DTSTART;TZID=Europe/Berlin:20260505T000000
DTEND;TZID=Europe/Berlin:20260505T010000
LOCATION:Im Seiler 23\, 6751 Braz\, Österreich
GEO:47.150249;9.900069
X-APPLE-STRUCTURED-LOCATION;VALUE=URI;X-ADDRESS=Im Seiler 23\, 6751 Braz\, 
 Österreich;X-APPLE-RADIUS=49;X-TITLE=:geo:47.150249,9.900069
URL;VALUE=URI:https://hey.at/events/407135
END:VEVENT
END:VCALENDAR
