BEGIN:VCALENDAR
PRODID:-//eluceo/ical//2.0/EN
VERSION:2.0
CALSCALE:GREGORIAN
BEGIN:VEVENT
UID:hey.bayern.446223.6554229
DTSTAMP:20260422T015944Z
SUMMARY:Einkaufstage der Gärtnerei Höllermann
DTSTART;TZID=Europe/Berlin:20260428T080000
DTEND;TZID=Europe/Berlin:20260428T180000
LOCATION:Jeritzastraße 35\, 4866 Unterach am Attersee\, Österreich
GEO:47.807308;13.493095
X-APPLE-STRUCTURED-LOCATION;VALUE=URI;X-ADDRESS=Jeritzastraße 35\, 4866 Un
 terach am Attersee\, Österreich;X-APPLE-RADIUS=49;X-TITLE=:geo:47.807308,
 13.493095
URL;VALUE=URI:https://hey.at/events/446223
END:VEVENT
END:VCALENDAR
