BEGIN:VCALENDAR
PRODID:-//eluceo/ical//2.0/EN
VERSION:2.0
CALSCALE:GREGORIAN
BEGIN:VEVENT
UID:hey.bayern.477307.6550188
DTSTAMP:20260419T232404Z
SUMMARY:Bewegt im Park - Body Fit
DTSTART;TZID=Europe/Berlin:20260803T180000
DTEND;TZID=Europe/Berlin:20260803T190000
URL;VALUE=URI:https://hey.at/events/477307
END:VEVENT
END:VCALENDAR
