BEGIN:VCALENDAR
PRODID:-//eluceo/ical//2.0/EN
VERSION:2.0
CALSCALE:GREGORIAN
BEGIN:VEVENT
UID:hey.bayern.477308.6550203
DTSTAMP:20260419T232436Z
SUMMARY:Bewegt im Park - Fit am Morgen
DTSTART;TZID=Europe/Berlin:20260825T080000
DTEND;TZID=Europe/Berlin:20260825T090000
URL;VALUE=URI:https://hey.at/events/477308
END:VEVENT
END:VCALENDAR
