BEGIN:VCALENDAR
PRODID:-//eluceo/ical//2.0/EN
VERSION:2.0
CALSCALE:GREGORIAN
BEGIN:VEVENT
UID:hey.bayern.477309.6550207
DTSTAMP:20260419T232437Z
SUMMARY:Bewegt im Park - Ganzkörpertraining
DTSTART;TZID=Europe/Berlin:20260630T180000
DTEND;TZID=Europe/Berlin:20260630T190000
URL;VALUE=URI:https://hey.at/events/477309
END:VEVENT
END:VCALENDAR
