BEGIN:VCALENDAR
PRODID:-//eluceo/ical//2.0/EN
VERSION:2.0
CALSCALE:GREGORIAN
BEGIN:VEVENT
UID:hey.bayern.477310.6550222
DTSTAMP:20260419T232612Z
SUMMARY:Bewegt im Park - Pilates am See
DTSTART;TZID=Europe/Berlin:20260722T180000
DTEND;TZID=Europe/Berlin:20260722T190000
URL;VALUE=URI:https://hey.at/events/477310
END:VEVENT
END:VCALENDAR
