BEGIN:VCALENDAR
PRODID:-//eluceo/ical//2.0/EN
VERSION:2.0
CALSCALE:GREGORIAN
BEGIN:VEVENT
UID:hey.bayern.478921.6551713
DTSTAMP:20260419T121357Z
SUMMARY:Frühjahrs-Oster-Zauberei
DTSTART;TZID=Europe/Berlin:20260503T100000
DTEND;TZID=Europe/Berlin:20260503T170000
LOCATION:Mühlgruberstraße 42\, 4540 Pfarrkirchen bei Bad Hall\, Österrei
 ch
GEO:48.025301;14.203705
X-APPLE-STRUCTURED-LOCATION;VALUE=URI;X-ADDRESS=Mühlgruberstraße 42\, 454
 0 Pfarrkirchen bei Bad Hall\, Österreich;X-APPLE-RADIUS=49;X-TITLE=:geo:4
 8.025301,14.203705
URL;VALUE=URI:https://hey.at/events/478921
END:VEVENT
END:VCALENDAR
