BEGIN:VCALENDAR
PRODID:-//eluceo/ical//2.0/EN
VERSION:2.0
CALSCALE:GREGORIAN
BEGIN:VEVENT
UID:hey.bayern.504903.6551258
DTSTAMP:20260419T182315Z
SUMMARY:Brauereiführung
DTSTART;TZID=Europe/Berlin:20261002T160000
DTEND;TZID=Europe/Berlin:20261002T235959
LOCATION:Katschberghöhe 19\, 9863 Katschberg\, Österreich
GEO:47.056533;13.611054
X-APPLE-STRUCTURED-LOCATION;VALUE=URI;X-ADDRESS=Katschberghöhe 19\, 9863 K
 atschberg\, Österreich;X-APPLE-RADIUS=49;X-TITLE=:geo:47.056533,13.611054
URL;VALUE=URI:https://hey.at/events/504903
END:VEVENT
END:VCALENDAR
