BEGIN:VCALENDAR
PRODID:-//eluceo/ical//2.0/EN
VERSION:2.0
CALSCALE:GREGORIAN
BEGIN:VEVENT
UID:hey.bayern.521930.6552760
DTSTAMP:20260420T011608Z
SUMMARY:Alm-Adventmarkt
DTSTART;TZID=Europe/Berlin:20261212T140000
DTEND;TZID=Europe/Berlin:20261213T140000
LOCATION:Gundisch-Nord 51-55\, 9423 St. Georgen im Lavanttal\, Österreich
URL;VALUE=URI:https://hey.at/events/521930
END:VEVENT
END:VCALENDAR
