BEGIN:VCALENDAR
PRODID:-//eluceo/ical//2.0/EN
VERSION:2.0
CALSCALE:GREGORIAN
BEGIN:VEVENT
UID:hey.bayern.526909.6180988
DTSTAMP:20260422T103809Z
SUMMARY:Gästebegrüßung
DTSTART;TZID=Europe/Berlin:20261103T103000
DTEND;TZID=Europe/Berlin:20261103T113000
LOCATION:Argenstraße 3\, 87534 Oberstaufen
GEO:47.557938;10.016153
X-APPLE-STRUCTURED-LOCATION;VALUE=URI;X-ADDRESS=Argenstraße 3\, 87534 Ober
 staufen;X-APPLE-RADIUS=49;X-TITLE=:geo:47.557938,10.016153
URL;VALUE=URI:https://hey.at/events/526909
END:VEVENT
END:VCALENDAR
