BEGIN:VCALENDAR
PRODID:-//eluceo/ical//2.0/EN
VERSION:2.0
CALSCALE:GREGORIAN
BEGIN:VEVENT
UID:hey.bayern.536791.6549150
DTSTAMP:20260419T172719Z
SUMMARY:Repair-Café
DTSTART;TZID=Europe/Berlin:20260530T150000
DTEND;TZID=Europe/Berlin:20260530T180000
LOCATION:Schulstraße 8\, 4655 Vorchdorf\, Österreich
GEO:48.005707;13.922479
X-APPLE-STRUCTURED-LOCATION;VALUE=URI;X-ADDRESS=Schulstraße 8\, 4655 Vorch
 dorf\, Österreich;X-APPLE-RADIUS=49;X-TITLE=:geo:48.005707,13.922479
URL;VALUE=URI:https://hey.at/events/536791
END:VEVENT
END:VCALENDAR
