BEGIN:VCALENDAR
PRODID:-//eluceo/ical//2.0/EN
VERSION:2.0
CALSCALE:GREGORIAN
BEGIN:VEVENT
UID:hey.bayern.543703.6550147
DTSTAMP:20260419T134411Z
SUMMARY:Bauernmarkt
DTSTART;TZID=Europe/Berlin:20260508T140000
DTEND;TZID=Europe/Berlin:20260508T170000
LOCATION:Eduard-Bach-Straße\, 4540 Bad Hall\, Österreich
GEO:48.034416;14.207883
X-APPLE-STRUCTURED-LOCATION;VALUE=URI;X-ADDRESS=Eduard-Bach-Straße\, 4540 
 Bad Hall\, Österreich;X-APPLE-RADIUS=49;X-TITLE=:geo:48.034416,14.207883
URL;VALUE=URI:https://hey.at/events/543703
END:VEVENT
END:VCALENDAR
