BEGIN:VCALENDAR
PRODID:-//eluceo/ical//2.0/EN
VERSION:2.0
CALSCALE:GREGORIAN
BEGIN:VEVENT
UID:hey.bayern.570675.6550807
DTSTAMP:20260419T184324Z
SUMMARY:Nikolausfeier in der Pfarrkirche Handenberg
DTSTART;TZID=Europe/Berlin:20261206T150000
DTEND;TZID=Europe/Berlin:20261206T160000
LOCATION:5144 Handenberg\, Österreich
GEO:48.133970;13.006079
X-APPLE-STRUCTURED-LOCATION;VALUE=URI;X-ADDRESS=5144 Handenberg\, Österrei
 ch;X-APPLE-RADIUS=49;X-TITLE=:geo:48.133970,13.006079
URL;VALUE=URI:https://hey.at/events/570675
END:VEVENT
END:VCALENDAR
