BEGIN:VCALENDAR
PRODID:-//eluceo/ical//2.0/EN
VERSION:2.0
CALSCALE:GREGORIAN
BEGIN:VEVENT
UID:hey.bayern.571938.6380849
DTSTAMP:20260419T131156Z
SUMMARY:Maibaumaufstellen der Brauchtumsgruppe "Die Lustigen Salzburger"
DTSTART;TZID=Europe/Berlin:20260501T110000
DTEND;TZID=Europe/Berlin:20260501T235959
LOCATION:Bindergasse 17\, 5020 Salzburg\, Österreich
URL;VALUE=URI:https://hey.at/events/571938
END:VEVENT
END:VCALENDAR
