BEGIN:VCALENDAR
PRODID:-//eluceo/ical//2.0/EN
VERSION:2.0
CALSCALE:GREGORIAN
BEGIN:VEVENT
UID:hey.bayern.616604.5776656
DTSTAMP:20260419T124842Z
SUMMARY:Der König der Löwen – The Music Live in Concert
DTSTART;TZID=Europe/Berlin:20230218T200000
DTEND;TZID=Europe/Berlin:20230218T235959
LOCATION:Hofstallgasse 1\, 5020 Salzburg\, Österreich
GEO:47.798551;13.041328
X-APPLE-STRUCTURED-LOCATION;VALUE=URI;X-ADDRESS=Hofstallgasse 1\, 5020 Salz
 burg\, Österreich;X-APPLE-RADIUS=49;X-TITLE=:geo:47.798551,13.041328
URL;VALUE=URI:https://hey.at/events/616604
END:VEVENT
END:VCALENDAR
