BEGIN:VCALENDAR
PRODID:-//eluceo/ical//2.0/EN
VERSION:2.0
CALSCALE:GREGORIAN
BEGIN:VEVENT
UID:hey.bayern.616772.5777681
DTSTAMP:20260419T125018Z
SUMMARY:Führung zum Muttertag. Mozarts Mutter: Kein Klischee
DTSTART;TZID=Europe/Berlin:20260510T150000
DTEND;TZID=Europe/Berlin:20260510T235959
LOCATION:Getreidegasse 9\, 5020 Salzburg\, Österreich
GEO:47.800008;13.043559
X-APPLE-STRUCTURED-LOCATION;VALUE=URI;X-ADDRESS=Getreidegasse 9\, 5020 Salz
 burg\, Österreich;X-APPLE-RADIUS=49;X-TITLE=:geo:47.800008,13.043559
URL;VALUE=URI:https://hey.at/events/616772
END:VEVENT
END:VCALENDAR
