BEGIN:VCALENDAR
PRODID:-//eluceo/ical//2.0/EN
VERSION:2.0
CALSCALE:GREGORIAN
BEGIN:VEVENT
UID:hey.bayern.653904.6492099
DTSTAMP:20260419T131325Z
SUMMARY:Führung: Heroisch und verklärt
DTSTART;TZID=Europe/Berlin:20260425T110000
DTEND;TZID=Europe/Berlin:20260425T235959
LOCATION:Residenzplatz 1\, 5020 Salzburg\, Österreich
GEO:47.798501;13.045649
X-APPLE-STRUCTURED-LOCATION;VALUE=URI;X-ADDRESS=Residenzplatz 1\, 5020 Salz
 burg\, Österreich;X-APPLE-RADIUS=49;X-TITLE=:geo:47.798501,13.045649
URL;VALUE=URI:https://hey.at/events/653904
END:VEVENT
END:VCALENDAR
