BEGIN:VCALENDAR
PRODID:-//eluceo/ical//2.0/EN
VERSION:2.0
CALSCALE:GREGORIAN
BEGIN:VEVENT
UID:hey.bayern.666836.6548113
DTSTAMP:20260419T215758Z
SUMMARY:Wagner reloaded
DTSTART;TZID=Europe/Berlin:20260522T090000
DTEND;TZID=Europe/Berlin:20260522T120000
LOCATION:Theatergasse 4\, 9020 Klagenfurt am Wörthersee\, Österreich
URL;VALUE=URI:https://hey.at/events/666836
END:VEVENT
END:VCALENDAR
