BEGIN:VCALENDAR
PRODID:-//eluceo/ical//2.0/EN
VERSION:2.0
CALSCALE:GREGORIAN
BEGIN:VEVENT
UID:hey.bayern.666881.6303202
DTSTAMP:20260419T181356Z
SUMMARY:Berglauf 2026
DTSTART;TZID=Europe/Berlin:20260523T100000
DTEND;TZID=Europe/Berlin:20260523T235900
URL;VALUE=URI:https://hey.at/events/666881
END:VEVENT
END:VCALENDAR
