BEGIN:VCALENDAR
PRODID:-//eluceo/ical//2.0/EN
VERSION:2.0
CALSCALE:GREGORIAN
BEGIN:VEVENT
UID:hey.bayern.670446.6448032
DTSTAMP:20260419T130939Z
SUMMARY:Date with Mozart. Nachmittagskonzerte zum Verlieben
DTSTART;TZID=Europe/Berlin:20261219T160000
DTEND;TZID=Europe/Berlin:20261219T235959
LOCATION:Residenzplatz 1\, 5020 Salzburg\, Österreich
URL;VALUE=URI:https://hey.at/events/670446
END:VEVENT
END:VCALENDAR
