BEGIN:VCALENDAR
PRODID:-//eluceo/ical//2.0/EN
VERSION:2.0
CALSCALE:GREGORIAN
BEGIN:VEVENT
UID:hey.bayern.670842.6549382
DTSTAMP:20260419T131234Z
SUMMARY:Improvisationstheater
DTSTART;TZID=Europe/Berlin:20260623T193000
DTEND;TZID=Europe/Berlin:20260623T235959
LOCATION:Ulrike-Gschwandtner-Straße 5\, 5020 Salzburg\, Österreich
GEO:47.794266;13.056210
X-APPLE-STRUCTURED-LOCATION;VALUE=URI;X-ADDRESS=Ulrike-Gschwandtner-Straße
  5\, 5020 Salzburg\, Österreich;X-APPLE-RADIUS=49;X-TITLE=:geo:47.794266,
 13.056210
URL;VALUE=URI:https://hey.at/events/670842
END:VEVENT
END:VCALENDAR
