BEGIN:VCALENDAR
PRODID:-//eluceo/ical//2.0/EN
VERSION:2.0
CALSCALE:GREGORIAN
BEGIN:VEVENT
UID:hey.bayern.676862.6411805
DTSTAMP:20260419T131321Z
SUMMARY:Willy Astor
DTSTART;TZID=Europe/Berlin:20260510T190000
DTEND;TZID=Europe/Berlin:20260510T235959
LOCATION:Anton-Neumayr-Platz 2\, 5020 Salzburg\, Österreich
GEO:47.801423;13.039636
X-APPLE-STRUCTURED-LOCATION;VALUE=URI;X-ADDRESS=Anton-Neumayr-Platz 2\, 502
 0 Salzburg\, Österreich;X-APPLE-RADIUS=49;X-TITLE=:geo:47.801423,13.03963
 6
URL;VALUE=URI:https://hey.at/events/676862
END:VEVENT
END:VCALENDAR
