BEGIN:VCALENDAR
PRODID:-//eluceo/ical//2.0/EN
VERSION:2.0
CALSCALE:GREGORIAN
BEGIN:VEVENT
UID:hey.bayern.678861.6428829
DTSTAMP:20260419T122615Z
SUMMARY:Frühjahrskonzert der Bundesmusikkapelle Finkenberg
DTSTART;TZID=Europe/Berlin:20260425T201500
DTEND;TZID=Europe/Berlin:20260425T231500
URL;VALUE=URI:https://hey.at/events/678861
END:VEVENT
END:VCALENDAR
