BEGIN:VCALENDAR
PRODID:-//eluceo/ical//2.0/EN
VERSION:2.0
CALSCALE:GREGORIAN
BEGIN:VEVENT
UID:hey.bayern.684064.6468694
DTSTAMP:20260419T140216Z
SUMMARY:Bauernhoferlebnis
DTSTART;TZID=Europe/Berlin:20260514T163000
DTEND;TZID=Europe/Berlin:20260514T180000
LOCATION:Wallingwinkl 6A\, 5441 Scheffau am Tennengebirge\, Österreich
URL;VALUE=URI:https://hey.at/events/684064
END:VEVENT
END:VCALENDAR
