BEGIN:VCALENDAR
PRODID:-//eluceo/ical//2.0/EN
VERSION:2.0
CALSCALE:GREGORIAN
BEGIN:VEVENT
UID:hey.bayern.684335.6554485
DTSTAMP:20260422T015737Z
SUMMARY:Goiserer Schachopen 2026
DTSTART;TZID=Europe/Berlin:20260628T000000
DTEND;TZID=Europe/Berlin:20260629T000000
LOCATION:Obere Marktstraße 11\, 4822 Bad Goisern am Hallstättersee\, Öst
 erreich
GEO:47.639484;13.618224
X-APPLE-STRUCTURED-LOCATION;VALUE=URI;X-ADDRESS=Obere Marktstraße 11\, 482
 2 Bad Goisern am Hallstättersee\, Österreich;X-APPLE-RADIUS=49;X-TITLE=:
 geo:47.639484,13.618224
URL;VALUE=URI:https://hey.at/events/684335
END:VEVENT
END:VCALENDAR
