BEGIN:VCALENDAR
PRODID:-//eluceo/ical//2.0/EN
VERSION:2.0
CALSCALE:GREGORIAN
BEGIN:VEVENT
UID:hey.bayern.684493.6552594
DTSTAMP:20260419T182243Z
SUMMARY:Tour of the Alps - International Cycling Event
DTSTART;TZID=Europe/Berlin:20260419T170000
DTEND;TZID=Europe/Berlin:20260419T180000
LOCATION:6020 Innsbruck\, Österreich
GEO:47.270880;11.400040
X-APPLE-STRUCTURED-LOCATION;VALUE=URI;X-ADDRESS=6020 Innsbruck\, Österreic
 h;X-APPLE-RADIUS=49;X-TITLE=:geo:47.270880,11.400040
URL;VALUE=URI:https://hey.at/events/684493
END:VEVENT
END:VCALENDAR
