BEGIN:VCALENDAR
PRODID:-//eluceo/ical//2.0/EN
VERSION:2.0
CALSCALE:GREGORIAN
BEGIN:VEVENT
UID:hey.bayern.684546.6473433
DTSTAMP:20260419T134448Z
SUMMARY:Ausstellung - Colour Vibes & viel Amore
DTSTART;TZID=Europe/Berlin:20260422T060000
DTEND;TZID=Europe/Berlin:20260422T150000
LOCATION:6370 Kitzbühel\, Österreich
URL;VALUE=URI:https://hey.at/events/684546
END:VEVENT
END:VCALENDAR
