BEGIN:VCALENDAR
PRODID:-//eluceo/ical//2.0/EN
VERSION:2.0
CALSCALE:GREGORIAN
BEGIN:VEVENT
UID:hey.bayern.689183.6513620
DTSTAMP:20260419T122452Z
SUMMARY:INNSBRUCK INTERNATIONAL Performance: CHRISTIAN FALSNAES - Collabora
 tion
DTSTART;TZID=Europe/Berlin:20260425T170000
DTEND;TZID=Europe/Berlin:20260425T235900
LOCATION:6020 Innsbruck\, Österreich
GEO:47.268500;11.393250
X-APPLE-STRUCTURED-LOCATION;VALUE=URI;X-ADDRESS=6020 Innsbruck\, Österreic
 h;X-APPLE-RADIUS=49;X-TITLE=:geo:47.268500,11.393250
URL;VALUE=URI:https://hey.at/events/689183
END:VEVENT
END:VCALENDAR
