BEGIN:VCALENDAR
PRODID:-//eluceo/ical//2.0/EN
VERSION:2.0
CALSCALE:GREGORIAN
BEGIN:VEVENT
UID:hey.bayern.689990.6518091
DTSTAMP:20260419T121536Z
SUMMARY:InnCon 2026\, Rollenspiel-Convention
DTSTART;TZID=Europe/Berlin:20260425T090000
DTEND;TZID=Europe/Berlin:20260425T230000
LOCATION:6020 Innsbruck\, Österreich
GEO:47.277340;11.433640
X-APPLE-STRUCTURED-LOCATION;VALUE=URI;X-ADDRESS=6020 Innsbruck\, Österreic
 h;X-APPLE-RADIUS=49;X-TITLE=:geo:47.277340,11.433640
URL;VALUE=URI:https://hey.at/events/689990
END:VEVENT
END:VCALENDAR
