BEGIN:VCALENDAR
PRODID:-//eluceo/ical//2.0/EN
VERSION:2.0
CALSCALE:GREGORIAN
BEGIN:VEVENT
UID:hey.bayern.691262.6526887
DTSTAMP:20260419T131320Z
SUMMARY:Nils Petter Molvaer Trio
DTSTART;TZID=Europe/Berlin:20260506T200000
DTEND;TZID=Europe/Berlin:20260506T235959
LOCATION:Elisabethstraße 11\, 5020 Salzburg\, Österreich
GEO:47.812127;13.041749
X-APPLE-STRUCTURED-LOCATION;VALUE=URI;X-ADDRESS=Elisabethstraße 11\, 5020 
 Salzburg\, Österreich;X-APPLE-RADIUS=49;X-TITLE=:geo:47.812127,13.041749
URL;VALUE=URI:https://hey.at/events/691262
END:VEVENT
END:VCALENDAR
