BEGIN:VCALENDAR
PRODID:-//eluceo/ical//2.0/EN
VERSION:2.0
CALSCALE:GREGORIAN
BEGIN:VEVENT
UID:hey.bayern.691884.6531800
DTSTAMP:20260419T121536Z
SUMMARY:Big Band Night mit der Innseit'n Bigband
DTSTART;TZID=Europe/Berlin:20260428T200000
DTEND;TZID=Europe/Berlin:20260428T235900
URL;VALUE=URI:https://hey.at/events/691884
END:VEVENT
END:VCALENDAR
