BEGIN:VCALENDAR
PRODID:-//eluceo/ical//2.0/EN
VERSION:2.0
CALSCALE:GREGORIAN
BEGIN:VEVENT
UID:hey.bayern.693577.6545179
DTSTAMP:20260419T181303Z
SUMMARY:28. Int. Cordial Cup Tirol
DTSTART;TZID=Europe/Berlin:20260522T000000
DTEND;TZID=Europe/Berlin:20260522T235900
URL;VALUE=URI:https://hey.at/events/693577
END:VEVENT
END:VCALENDAR
