BEGIN:VCALENDAR
PRODID:-//eluceo/ical//2.0/EN
VERSION:2.0
CALSCALE:GREGORIAN
BEGIN:VEVENT
UID:hey.bayern.693584.6545199
DTSTAMP:20260419T181210Z
SUMMARY:60 Jahre Sportklub Waidring - SK-Clubbing
DTSTART;TZID=Europe/Berlin:20260424T200000
DTEND;TZID=Europe/Berlin:20260424T235900
URL;VALUE=URI:https://hey.at/events/693584
END:VEVENT
END:VCALENDAR
