BEGIN:VCALENDAR
PRODID:-//eluceo/ical//2.0/EN
VERSION:2.0
CALSCALE:GREGORIAN
BEGIN:VEVENT
UID:hey.bayern.693638.6545934
DTSTAMP:20260419T203616Z
SUMMARY:Charity Tiebreak Doppel-Turnier
DTSTART;TZID=Europe/Berlin:20260912T100000
DTEND;TZID=Europe/Berlin:20260912T235900
LOCATION:6100 Seefeld in Tirol\, Österreich
GEO:47.325760;11.176590
X-APPLE-STRUCTURED-LOCATION;VALUE=URI;X-ADDRESS=6100 Seefeld in Tirol\, Ös
 terreich;X-APPLE-RADIUS=49;X-TITLE=:geo:47.325760,11.176590
URL;VALUE=URI:https://hey.at/events/693638
END:VEVENT
END:VCALENDAR
