BEGIN:VCALENDAR
PRODID:-//eluceo/ical//2.0/EN
VERSION:2.0
CALSCALE:GREGORIAN
BEGIN:VEVENT
UID:hey.bayern.693664.6546167
DTSTAMP:20260419T183431Z
SUMMARY:E-Bike Tour "Biathlon WM Pfad"
DTSTART;TZID=Europe/Berlin:20260520T130000
DTEND;TZID=Europe/Berlin:20260520T153000
URL;VALUE=URI:https://hey.at/events/693664
END:VEVENT
END:VCALENDAR
