BEGIN:VCALENDAR
PRODID:-//eluceo/ical//2.0/EN
VERSION:2.0
CALSCALE:GREGORIAN
BEGIN:VEVENT
UID:hey.bayern.693699.6546410
DTSTAMP:20260419T122548Z
SUMMARY:Frühjahrskonzert der Stadtmusikkapelle Innsbruck - Mariahilf/St. N
 ikolaus
DTSTART;TZID=Europe/Berlin:20260425T200000
DTEND;TZID=Europe/Berlin:20260425T220000
LOCATION:6020 Innsbruck\, Österreich
GEO:47.268980;11.395950
X-APPLE-STRUCTURED-LOCATION;VALUE=URI;X-ADDRESS=6020 Innsbruck\, Österreic
 h;X-APPLE-RADIUS=49;X-TITLE=:geo:47.268980,11.395950
URL;VALUE=URI:https://hey.at/events/693699
END:VEVENT
END:VCALENDAR
