BEGIN:VCALENDAR
PRODID:-//eluceo/ical//2.0/EN
VERSION:2.0
CALSCALE:GREGORIAN
BEGIN:VEVENT
UID:hey.bayern.693725.6546687
DTSTAMP:20260419T172717Z
SUMMARY:KIRCHKLANG 2026 - Festmesse in der Konradkirche Oberwang – Feierl
 iche Chormusik und Orgelklang
DTSTART;TZID=Europe/Berlin:20260802T100000
DTEND;TZID=Europe/Berlin:20260802T120000
LOCATION:Gessenschwandt 22\, 4882 Oberwang bei Mondsee\, Österreich
GEO:47.862355;13.429703
X-APPLE-STRUCTURED-LOCATION;VALUE=URI;X-ADDRESS=Gessenschwandt 22\, 4882 Ob
 erwang bei Mondsee\, Österreich;X-APPLE-RADIUS=49;X-TITLE=:geo:47.862355,
 13.429703
URL;VALUE=URI:https://hey.at/events/693725
END:VEVENT
END:VCALENDAR
