BEGIN:VCALENDAR
PRODID:-//eluceo/ical//2.0/EN
VERSION:2.0
CALSCALE:GREGORIAN
BEGIN:VEVENT
UID:hey.bayern.693829.6547333
DTSTAMP:20260419T181303Z
SUMMARY:Nordic Skating
DTSTART;TZID=Europe/Berlin:20260602T000000
DTEND;TZID=Europe/Berlin:20260602T235900
URL;VALUE=URI:https://hey.at/events/693829
END:VEVENT
END:VCALENDAR
