BEGIN:VCALENDAR
PRODID:-//eluceo/ical//2.0/EN
VERSION:2.0
CALSCALE:GREGORIAN
BEGIN:VEVENT
UID:hey.bayern.693858.6547828
DTSTAMP:20260419T183438Z
SUMMARY:Sommerbiathlon für alle
DTSTART;TZID=Europe/Berlin:20260514T123000
DTEND;TZID=Europe/Berlin:20260514T140000
URL;VALUE=URI:https://hey.at/events/693858
END:VEVENT
END:VCALENDAR
