BEGIN:VCALENDAR
PRODID:-//eluceo/ical//2.0/EN
VERSION:2.0
CALSCALE:GREGORIAN
BEGIN:VEVENT
UID:hey.bayern.693987.6548700
DTSTAMP:20260419T150245Z
SUMMARY:Gameday AFC Schwaz Hammers vs Mostviertel Dukes
DTSTART;TZID=Europe/Berlin:20260426T120000
DTEND;TZID=Europe/Berlin:20260426T150000
LOCATION:6130 Schwaz\, Österreich
URL;VALUE=URI:https://hey.at/events/693987
END:VEVENT
END:VCALENDAR
