BEGIN:VCALENDAR
PRODID:-//eluceo/ical//2.0/EN
VERSION:2.0
CALSCALE:GREGORIAN
BEGIN:VEVENT
UID:hey.bayern.694024.6549049
DTSTAMP:20260419T164354Z
SUMMARY:Lange Nacht der Forschung - FH Salzburg
DTSTART;TZID=Europe/Berlin:20260424T170000
DTEND;TZID=Europe/Berlin:20260424T230000
LOCATION:Urstein Süd 1\, 5412 Puch bei Hallein\, Österreich
GEO:47.723570;13.087065
X-APPLE-STRUCTURED-LOCATION;VALUE=URI;X-ADDRESS=Urstein Süd 1\, 5412 Puch 
 bei Hallein\, Österreich;X-APPLE-RADIUS=49;X-TITLE=:geo:47.723570,13.0870
 65
URL;VALUE=URI:https://hey.at/events/694024
END:VEVENT
END:VCALENDAR
