BEGIN:VCALENDAR
PRODID:-//eluceo/ical//2.0/EN
VERSION:2.0
CALSCALE:GREGORIAN
BEGIN:VEVENT
UID:hey.bayern.694027.6549054
DTSTAMP:20260419T172717Z
SUMMARY:Lesung: Gesundheit im Wandel der Zeit
DTSTART;TZID=Europe/Berlin:20260425T150000
DTEND;TZID=Europe/Berlin:20260425T235900
LOCATION:Neydharting 4\, 4654 Bad Wimsbach-Neydharting\, Österreich
GEO:48.052319;13.884142
X-APPLE-STRUCTURED-LOCATION;VALUE=URI;X-ADDRESS=Neydharting 4\, 4654 Bad Wi
 msbach-Neydharting\, Österreich;X-APPLE-RADIUS=49;X-TITLE=:geo:48.052319,
 13.884142
URL;VALUE=URI:https://hey.at/events/694027
END:VEVENT
END:VCALENDAR
