BEGIN:VCALENDAR
PRODID:-//eluceo/ical//2.0/EN
VERSION:2.0
CALSCALE:GREGORIAN
BEGIN:VEVENT
UID:hey.bayern.694046.6549078
DTSTAMP:20260419T153523Z
SUMMARY:Musiksommer Neustift: Konzert für Sopran\, Trompete und Orgel
DTSTART;TZID=Europe/Berlin:20260728T203000
DTEND;TZID=Europe/Berlin:20260728T213000
LOCATION:6167 Neustift im Stubaital\, Österreich
URL;VALUE=URI:https://hey.at/events/694046
END:VEVENT
END:VCALENDAR
