BEGIN:VCALENDAR
PRODID:-//eluceo/ical//2.0/EN
VERSION:2.0
CALSCALE:GREGORIAN
BEGIN:VEVENT
UID:hey.bayern.694047.6549079
DTSTAMP:20260422T054958Z
SUMMARY:Musiksommer Neustift: Konzert für Trompete\, Saxophon\, Posaune\, 
 Blassflügelhorn
DTSTART;TZID=Europe/Berlin:20260811T203000
DTEND;TZID=Europe/Berlin:20260811T213000
LOCATION:6167 Neustift im Stubaital\, Österreich
URL;VALUE=URI:https://hey.at/events/694047
END:VEVENT
END:VCALENDAR
