BEGIN:VCALENDAR
PRODID:-//eluceo/ical//2.0/EN
VERSION:2.0
CALSCALE:GREGORIAN
BEGIN:VEVENT
UID:hey.bayern.694064.6549131
DTSTAMP:20260419T122440Z
SUMMARY:Pflanzenfest am Lumpererhof
DTSTART;TZID=Europe/Berlin:20260426T100000
DTEND;TZID=Europe/Berlin:20260426T235900
LOCATION:6122 Fritzens\, Österreich
GEO:47.305870;11.590440
X-APPLE-STRUCTURED-LOCATION;VALUE=URI;X-ADDRESS=6122 Fritzens\, Österreich
 ;X-APPLE-RADIUS=49;X-TITLE=:geo:47.305870,11.590440
URL;VALUE=URI:https://hey.at/events/694064
END:VEVENT
END:VCALENDAR
