BEGIN:VCALENDAR
PRODID:-//eluceo/ical//2.0/EN
VERSION:2.0
CALSCALE:GREGORIAN
BEGIN:VEVENT
UID:hey.bayern.694085.6549219
DTSTAMP:20260419T114920Z
SUMMARY:Shiatsu trifft MyDéesse Kosmetikberatung
DTSTART;TZID=Europe/Berlin:20260424T150000
DTEND;TZID=Europe/Berlin:20260424T200000
LOCATION:Lidaunstraße 2\, 5324 Faistenau\, Österreich
URL;VALUE=URI:https://hey.at/events/694085
END:VEVENT
END:VCALENDAR
