BEGIN:VCALENDAR
PRODID:-//eluceo/ical//2.0/EN
VERSION:2.0
CALSCALE:GREGORIAN
BEGIN:VEVENT
UID:hey.bayern.694123.6549469
DTSTAMP:20260419T140327Z
SUMMARY:Wildkräuterspaziergang mit Carina Schiendorfer (NaturGfüh)
DTSTART;TZID=Europe/Berlin:20260806T090000
DTEND;TZID=Europe/Berlin:20260806T120000
LOCATION:Kaltenbachstraße 62\, 4820 Bad Ischl\, Österreich
GEO:47.698650;13.607085
X-APPLE-STRUCTURED-LOCATION;VALUE=URI;X-ADDRESS=Kaltenbachstraße 62\, 4820
  Bad Ischl\, Österreich;X-APPLE-RADIUS=49;X-TITLE=:geo:47.698650,13.60708
 5
URL;VALUE=URI:https://hey.at/events/694123
END:VEVENT
END:VCALENDAR
